BEGIN:VCALENDAR
VERSION:2.0
PRODID:-//jEvents 2.0 for Joomla//EN
CALSCALE:GREGORIAN
METHOD:PUBLISH
BEGIN:VTIMEZONE
TZID:Europe/Berlin
END:VTIMEZONE
BEGIN:VEVENT
UID:8348d2b2fde5d1db11b7b5883e003f0c
CATEGORIES:imp_Geburtstage
CREATED:20170609T165658
SUMMARY:Geburtstag von CeCe Peniston (1969)
DESCRIPTION:
DTSTAMP:20260419T220821
DTSTART;TZID=Europe/Berlin;VALUE=DATE:20350906
DTEND;TZID=Europe/Berlin;VALUE=DATE:20350907
SEQUENCE:0
TRANSP:OPAQUE
END:VEVENT
END:VCALENDAR