BEGIN:VCALENDAR
VERSION:2.0
PRODID:-//jEvents 2.0 for Joomla//EN
CALSCALE:GREGORIAN
METHOD:PUBLISH
BEGIN:VTIMEZONE
TZID:Europe/Berlin
END:VTIMEZONE
BEGIN:VEVENT
UID:5a605e961a77acfceb25f3d34ebd8c1e
CATEGORIES:imp_Geburtstage
CREATED:20170609T165658
SUMMARY:Geburtstag von Dave Bargeron (Blood, Sweat & Tears) (1942)
DESCRIPTION:
DTSTAMP:20260419T220904
DTSTART;TZID=Europe/Berlin;VALUE=DATE:20350906
DTEND;TZID=Europe/Berlin;VALUE=DATE:20350907
SEQUENCE:0
TRANSP:OPAQUE
END:VEVENT
END:VCALENDAR