BEGIN:VCALENDAR
VERSION:2.0
PRODID:-//jEvents 2.0 for Joomla//EN
CALSCALE:GREGORIAN
METHOD:PUBLISH
BEGIN:VTIMEZONE
TZID:Europe/Berlin
END:VTIMEZONE
BEGIN:VEVENT
UID:7c6f288262d40800b5b584156cd036cf
CATEGORIES:imp_Geburtstage
CREATED:20170609T165658
SUMMARY:Geburtstag von Nina Persson (The Cardigans) (1974)
DESCRIPTION:
DTSTAMP:20260420T221307
DTSTART;TZID=Europe/Berlin;VALUE=DATE:20350906
DTEND;TZID=Europe/Berlin;VALUE=DATE:20350907
SEQUENCE:0
TRANSP:OPAQUE
END:VEVENT
END:VCALENDAR