BEGIN:VCALENDAR
VERSION:2.0
PRODID:-//jEvents 2.0 for Joomla//EN
CALSCALE:GREGORIAN
METHOD:PUBLISH
BEGIN:VTIMEZONE
TZID:Europe/Berlin
END:VTIMEZONE
BEGIN:VEVENT
UID:0592f9558876b4dbae1541110371b36e
CATEGORIES:imp_Geburtstage
CREATED:20170609T165658
SUMMARY:Geburtstag von Chrissie Hynde (The Pretenders) (1951)
DESCRIPTION:
DTSTAMP:20260421T202608
DTSTART;TZID=Europe/Berlin;VALUE=DATE:20350907
DTEND;TZID=Europe/Berlin;VALUE=DATE:20350908
SEQUENCE:0
TRANSP:OPAQUE
END:VEVENT
END:VCALENDAR