BEGIN:VCALENDAR
VERSION:2.0
PRODID:-//jEvents 2.0 for Joomla//EN
CALSCALE:GREGORIAN
METHOD:PUBLISH
BEGIN:VTIMEZONE
TZID:Europe/Berlin
END:VTIMEZONE
BEGIN:VEVENT
UID:0382732c2d41801658ee9445ffe1994c
CATEGORIES:imp_Geburtstage
CREATED:20170609T165658
SUMMARY:Geburtstag von Doug Ingle (Iron Butterfly) (1946)
DESCRIPTION:
DTSTAMP:20260421T214704
DTSTART;TZID=Europe/Berlin;VALUE=DATE:20350909
DTEND;TZID=Europe/Berlin;VALUE=DATE:20350910
SEQUENCE:0
TRANSP:OPAQUE
END:VEVENT
END:VCALENDAR