BEGIN:VCALENDAR
VERSION:2.0
PRODID:-//jEvents 2.0 for Joomla//EN
CALSCALE:GREGORIAN
METHOD:PUBLISH
BEGIN:VTIMEZONE
TZID:Europe/Berlin
END:VTIMEZONE
BEGIN:VEVENT
UID:8c0669a2b6021b26021b37912935499e
CATEGORIES:imp_Geburtstage
CREATED:20170609T165658
SUMMARY:Geburtstag von Dray (Das EFX) (1970)
DESCRIPTION:
DTSTAMP:20260420T185751
DTSTART;TZID=Europe/Berlin;VALUE=DATE:20350909
DTEND;TZID=Europe/Berlin;VALUE=DATE:20350910
SEQUENCE:0
TRANSP:OPAQUE
END:VEVENT
END:VCALENDAR