BEGIN:VCALENDAR
VERSION:2.0
PRODID:-//jEvents 2.0 for Joomla//EN
CALSCALE:GREGORIAN
METHOD:PUBLISH
BEGIN:VTIMEZONE
TZID:Europe/Berlin
END:VTIMEZONE
BEGIN:VEVENT
UID:ea45a875918389f2ce8d91231411c964
CATEGORIES:imp_Geburtstage
CREATED:20170609T165658
SUMMARY:Geburtstag von Siobhan Fahey (Bananarama) (1960)
DESCRIPTION:
DTSTAMP:20260420T092126
DTSTART;TZID=Europe/Berlin;VALUE=DATE:20350910
DTEND;TZID=Europe/Berlin;VALUE=DATE:20350911
SEQUENCE:0
TRANSP:OPAQUE
END:VEVENT
END:VCALENDAR