BEGIN:VCALENDAR
VERSION:2.0
PRODID:-//jEvents 2.0 for Joomla//EN
CALSCALE:GREGORIAN
METHOD:PUBLISH
BEGIN:VTIMEZONE
TZID:Europe/Berlin
END:VTIMEZONE
BEGIN:VEVENT
UID:777fde2e12d9e72b6e6d374ad8440874
CATEGORIES:imp_Geburtstage
CREATED:20170609T165658
SUMMARY:Geburtstag von Moby (1965)
DESCRIPTION:
DTSTAMP:20260419T220839
DTSTART;TZID=Europe/Berlin;VALUE=DATE:20350911
DTEND;TZID=Europe/Berlin;VALUE=DATE:20350912
SEQUENCE:0
TRANSP:OPAQUE
END:VEVENT
END:VCALENDAR