BEGIN:VCALENDAR
VERSION:2.0
PRODID:-//jEvents 2.0 for Joomla//EN
CALSCALE:GREGORIAN
METHOD:PUBLISH
BEGIN:VTIMEZONE
TZID:Europe/Berlin
END:VTIMEZONE
BEGIN:VEVENT
UID:27db12cf36ab7e5326ec9f59542a09ba
CATEGORIES:imp_Geburtstage
CREATED:20170609T165659
SUMMARY:Geburtstag von Larry LaLonde (Primus) (1968)
DESCRIPTION:
DTSTAMP:20260422T195805
DTSTART;TZID=Europe/Berlin;VALUE=DATE:20350912
DTEND;TZID=Europe/Berlin;VALUE=DATE:20350913
SEQUENCE:0
TRANSP:OPAQUE
END:VEVENT
END:VCALENDAR