BEGIN:VCALENDAR
VERSION:2.0
PRODID:-//jEvents 2.0 for Joomla//EN
CALSCALE:GREGORIAN
METHOD:PUBLISH
BEGIN:VTIMEZONE
TZID:Europe/Berlin
END:VTIMEZONE
BEGIN:VEVENT
UID:b01fb79169078d8c274a01c0ea240191
CATEGORIES:imp_Geburtstage
CREATED:20170609T165659
SUMMARY:Geburtstag von Nas (1973)
DESCRIPTION:
DTSTAMP:20260420T011609
DTSTART;TZID=Europe/Berlin;VALUE=DATE:20350914
DTEND;TZID=Europe/Berlin;VALUE=DATE:20350915
SEQUENCE:0
TRANSP:OPAQUE
END:VEVENT
END:VCALENDAR