BEGIN:VCALENDAR
VERSION:2.0
PRODID:-//jEvents 2.0 for Joomla//EN
CALSCALE:GREGORIAN
METHOD:PUBLISH
BEGIN:VTIMEZONE
TZID:Europe/Berlin
END:VTIMEZONE
BEGIN:VEVENT
UID:4e9d87fce97e4f1478410337c0dadfe1
CATEGORIES:imp_Geburtstage
CREATED:20170609T165659
SUMMARY:Geburtstag von Bernard Calvert (the Hollies) (1943)
DESCRIPTION:
DTSTAMP:20260421T190808
DTSTART;TZID=Europe/Berlin;VALUE=DATE:20350916
DTEND;TZID=Europe/Berlin;VALUE=DATE:20350917
SEQUENCE:0
TRANSP:OPAQUE
END:VEVENT
END:VCALENDAR