BEGIN:VCALENDAR
VERSION:2.0
PRODID:-//jEvents 2.0 for Joomla//EN
CALSCALE:GREGORIAN
METHOD:PUBLISH
BEGIN:VTIMEZONE
TZID:Europe/Berlin
END:VTIMEZONE
BEGIN:VEVENT
UID:31ff24ad168ec3179a6b866db34385b0
CATEGORIES:imp_Geburtstage
CREATED:20170609T165659
SUMMARY:Geburtstag von Richard Marx (1963)
DESCRIPTION:
DTSTAMP:20260419T220859
DTSTART;TZID=Europe/Berlin;VALUE=DATE:20350916
DTEND;TZID=Europe/Berlin;VALUE=DATE:20350917
SEQUENCE:0
TRANSP:OPAQUE
END:VEVENT
END:VCALENDAR