BEGIN:VCALENDAR
VERSION:2.0
PRODID:-//jEvents 2.0 for Joomla//EN
CALSCALE:GREGORIAN
METHOD:PUBLISH
BEGIN:VTIMEZONE
TZID:Europe/Berlin
END:VTIMEZONE
BEGIN:VEVENT
UID:5dfd1d57b27e96e554e8c4fc6a9e4453
CATEGORIES:imp_Geburtstage
CREATED:20170609T165700
SUMMARY:Geburtstag von Avril Lavigne (1984)
DESCRIPTION:
DTSTAMP:20260421T214639
DTSTART;TZID=Europe/Berlin;VALUE=DATE:20350927
DTEND;TZID=Europe/Berlin;VALUE=DATE:20350928
SEQUENCE:0
TRANSP:OPAQUE
END:VEVENT
END:VCALENDAR