BEGIN:VCALENDAR
VERSION:2.0
PRODID:-//jEvents 2.0 for Joomla//EN
CALSCALE:GREGORIAN
METHOD:PUBLISH
BEGIN:VTIMEZONE
TZID:Europe/Berlin
END:VTIMEZONE
BEGIN:VEVENT
UID:2bd741848e910f3b29bc5d98a7465f33
CATEGORIES:imp_Geburtstage
CREATED:20170609T165700
SUMMARY:Geburtstag von Alannah Currie (Thompson Twins) (1959)
DESCRIPTION:
DTSTAMP:20260424T170722
DTSTART;TZID=Europe/Berlin;VALUE=DATE:20350928
DTEND;TZID=Europe/Berlin;VALUE=DATE:20350929
SEQUENCE:0
TRANSP:OPAQUE
END:VEVENT
END:VCALENDAR