BEGIN:VCALENDAR
VERSION:2.0
PRODID:-//jEvents 2.0 for Joomla//EN
CALSCALE:GREGORIAN
METHOD:PUBLISH
BEGIN:VTIMEZONE
TZID:Europe/Berlin
END:VTIMEZONE
BEGIN:VEVENT
UID:c59bebd7b5102b4212d78e2b9ced0551
CATEGORIES:imp_Geburtstage
CREATED:20170609T165652
SUMMARY:Geburtstag von Ellen Reid (Crash Test Dummies) (1966)
DESCRIPTION:
DTSTAMP:20260420T214305
DTSTART;TZID=Europe/Berlin;VALUE=DATE:20360714
DTEND;TZID=Europe/Berlin;VALUE=DATE:20360715
SEQUENCE:0
TRANSP:OPAQUE
END:VEVENT
END:VCALENDAR