BEGIN:VCALENDAR
VERSION:2.0
PRODID:-//jEvents 2.0 for Joomla//EN
CALSCALE:GREGORIAN
METHOD:PUBLISH
BEGIN:VTIMEZONE
TZID:Europe/Berlin
END:VTIMEZONE
BEGIN:VEVENT
UID:ea12b6b90550ffe174a2519e133bb914
CATEGORIES:imp_Geburtstage
CREATED:20170609T165655
SUMMARY:Geburtstag von Jim Kale (Guess Who) (1943)
DESCRIPTION:
DTSTAMP:20260420T092133
DTSTART;TZID=Europe/Berlin;VALUE=DATE:20350811
DTEND;TZID=Europe/Berlin;VALUE=DATE:20350812
SEQUENCE:0
TRANSP:OPAQUE
END:VEVENT
END:VCALENDAR