BEGIN:VCALENDAR
VERSION:2.0
PRODID:-//jEvents 2.0 for Joomla//EN
CALSCALE:GREGORIAN
METHOD:PUBLISH
BEGIN:VTIMEZONE
TZID:Europe/Berlin
END:VTIMEZONE
BEGIN:VEVENT
UID:7694875cbed54ccc9487a9828fd32f68
CATEGORIES:imp_Geburtstage
CREATED:20170609T165657
SUMMARY:Geburtstag von Greg Errico (Sly & The Family Stone) (1946)
DESCRIPTION:
DTSTAMP:20260424T170713
DTSTART;TZID=Europe/Berlin;VALUE=DATE:20350901
DTEND;TZID=Europe/Berlin;VALUE=DATE:20350902
SEQUENCE:0
TRANSP:OPAQUE
END:VEVENT
END:VCALENDAR