BEGIN:VCALENDAR
VERSION:2.0
PRODID:-//jEvents 2.0 for Joomla//EN
CALSCALE:GREGORIAN
METHOD:PUBLISH
BEGIN:VTIMEZONE
TZID:Europe/Berlin
END:VTIMEZONE
BEGIN:VEVENT
UID:ceb902a243b962dc5b23ffa9c5a29c11
CATEGORIES:imp_Geburtstage
CREATED:20170609T165657
SUMMARY:Geburtstag von Donald Brewer (Grand Funk Railroad) (1948)
DESCRIPTION:
DTSTAMP:20260422T155108
DTSTART;TZID=Europe/Berlin;VALUE=DATE:20350903
DTEND;TZID=Europe/Berlin;VALUE=DATE:20350904
SEQUENCE:0
TRANSP:OPAQUE
END:VEVENT
END:VCALENDAR