BEGIN:VCALENDAR
VERSION:2.0
PRODID:-//jEvents 2.0 for Joomla//EN
CALSCALE:GREGORIAN
METHOD:PUBLISH
BEGIN:VTIMEZONE
TZID:Europe/Berlin
END:VTIMEZONE
BEGIN:VEVENT
UID:d8defe6ee49dbd75bd94fdc67d68d8c3
CATEGORIES:imp_Geburtstage
CREATED:20170609T165658
SUMMARY:Geburtstag von Merald Knight (Gladys Knight & The Pips) (1942)
DESCRIPTION:
DTSTAMP:20260420T221247
DTSTART;TZID=Europe/Berlin;VALUE=DATE:20350904
DTEND;TZID=Europe/Berlin;VALUE=DATE:20350905
SEQUENCE:0
TRANSP:OPAQUE
END:VEVENT
END:VCALENDAR