BEGIN:VCALENDAR
VERSION:2.0
PRODID:-//jEvents 2.0 for Joomla//EN
CALSCALE:GREGORIAN
METHOD:PUBLISH
BEGIN:VTIMEZONE
TZID:Europe/Berlin
END:VTIMEZONE
BEGIN:VEVENT
UID:372322418886d89c9e2eb7b59184a17c
CATEGORIES:imp_Geburtstage
CREATED:20170609T165658
SUMMARY:Geburtstag von Roger Waters (Pink Floyd) (1944)
DESCRIPTION:
DTSTAMP:20260420T203353
DTSTART;TZID=Europe/Berlin;VALUE=DATE:20350909
DTEND;TZID=Europe/Berlin;VALUE=DATE:20350910
SEQUENCE:0
TRANSP:OPAQUE
END:VEVENT
END:VCALENDAR