BEGIN:VCALENDAR
VERSION:2.0
PRODID:-//jEvents 2.0 for Joomla//EN
CALSCALE:GREGORIAN
METHOD:PUBLISH
BEGIN:VTIMEZONE
TZID:Europe/Berlin
END:VTIMEZONE
BEGIN:VEVENT
UID:145d0971ddb3b20a134ba60efb310853
CATEGORIES:imp_Geburtstage
CREATED:20170609T165658
SUMMARY:Geburtstag von Jon Buckland (Coldplay) (1977)
DESCRIPTION:
DTSTAMP:20260420T221302
DTSTART;TZID=Europe/Berlin;VALUE=DATE:20350911
DTEND;TZID=Europe/Berlin;VALUE=DATE:20350912
SEQUENCE:0
TRANSP:OPAQUE
END:VEVENT
END:VCALENDAR