BEGIN:VCALENDAR
VERSION:2.0
PRODID:-//jEvents 2.0 for Joomla//EN
CALSCALE:GREGORIAN
METHOD:PUBLISH
BEGIN:VTIMEZONE
TZID:Europe/Berlin
END:VTIMEZONE
BEGIN:VEVENT
UID:0bff352eb065de6e5585d5fa847a2bc1
CATEGORIES:imp_Geburtstage
CREATED:20170609T165659
SUMMARY:Geburtstag von Gerry Beckley (America) (1952)
DESCRIPTION:
DTSTAMP:20260419T230112
DTSTART;TZID=Europe/Berlin;VALUE=DATE:20350912
DTEND;TZID=Europe/Berlin;VALUE=DATE:20350913
SEQUENCE:0
TRANSP:OPAQUE
END:VEVENT
END:VCALENDAR