BEGIN:VCALENDAR
VERSION:2.0
PRODID:-//jEvents 2.0 for Joomla//EN
CALSCALE:GREGORIAN
METHOD:PUBLISH
BEGIN:VTIMEZONE
TZID:Europe/Berlin
END:VTIMEZONE
BEGIN:VEVENT
UID:37a768e96df4e1f12a84147cd9758b16
CATEGORIES:imp_Geburtstage
CREATED:20170609T165659
SUMMARY:Geburtstag von Steve Perkins (Jane's Addiction) (1967)
DESCRIPTION:
DTSTAMP:20260420T154044
DTSTART;TZID=Europe/Berlin;VALUE=DATE:20350913
DTEND;TZID=Europe/Berlin;VALUE=DATE:20350914
SEQUENCE:0
TRANSP:OPAQUE
END:VEVENT
END:VCALENDAR