BEGIN:VCALENDAR
VERSION:2.0
PRODID:-//jEvents 2.0 for Joomla//EN
CALSCALE:GREGORIAN
METHOD:PUBLISH
BEGIN:VTIMEZONE
TZID:Europe/Berlin
END:VTIMEZONE
BEGIN:VEVENT
UID:80e2b4f50d26cfa440ec960e440ac8d8
CATEGORIES:imp_Geburtstage
CREATED:20170609T165700
SUMMARY:Geburtstag von Bryan Ferry (1945)
DESCRIPTION:
DTSTAMP:20260421T231356
DTSTART;TZID=Europe/Berlin;VALUE=DATE:20350926
DTEND;TZID=Europe/Berlin;VALUE=DATE:20350927
SEQUENCE:0
TRANSP:OPAQUE
END:VEVENT
END:VCALENDAR