BEGIN:VCALENDAR
VERSION:2.0
PRODID:-//jEvents 2.0 for Joomla//EN
CALSCALE:GREGORIAN
METHOD:PUBLISH
BEGIN:VTIMEZONE
TZID:Europe/Berlin
END:VTIMEZONE
BEGIN:VEVENT
UID:1cd3524fecbe7820051e159152f690fa
CATEGORIES:imp_Geburtstage
CREATED:20170609T165700
SUMMARY:Geburtstag von Carlene Carter (1955)
DESCRIPTION:
DTSTAMP:20260419T230137
DTSTART;TZID=Europe/Berlin;VALUE=DATE:20350926
DTEND;TZID=Europe/Berlin;VALUE=DATE:20350927
SEQUENCE:0
TRANSP:OPAQUE
END:VEVENT
END:VCALENDAR