BEGIN:VCALENDAR
VERSION:2.0
PRODID:-//jEvents 2.0 for Joomla//EN
CALSCALE:GREGORIAN
METHOD:PUBLISH
BEGIN:VTIMEZONE
TZID:Europe/Berlin
END:VTIMEZONE
BEGIN:VEVENT
UID:f27565c3e0cf52767892601141ad3f64
CATEGORIES:imp_Geburtstage
CREATED:20170609T165700
SUMMARY:Geburtstag von Olivia Newton-John (1948)
DESCRIPTION:
DTSTAMP:20260419T115713
DTSTART;TZID=Europe/Berlin;VALUE=DATE:20350926
DTEND;TZID=Europe/Berlin;VALUE=DATE:20350927
SEQUENCE:0
TRANSP:OPAQUE
END:VEVENT
END:VCALENDAR