BEGIN:VCALENDAR
VERSION:2.0
PRODID:-//jEvents 2.0 for Joomla//EN
CALSCALE:GREGORIAN
METHOD:PUBLISH
BEGIN:VTIMEZONE
TZID:Europe/Berlin
END:VTIMEZONE
BEGIN:VEVENT
UID:d0199fab825834417fe1ef2a88864f53
CATEGORIES:imp_Geburtstage
CREATED:20170609T165700
SUMMARY:Geburtstag von Nick St. Nicholas (Steppenwolf) (1943)
DESCRIPTION:
DTSTAMP:20260419T131040
DTSTART;TZID=Europe/Berlin;VALUE=DATE:20350928
DTEND;TZID=Europe/Berlin;VALUE=DATE:20350929
SEQUENCE:0
TRANSP:OPAQUE
END:VEVENT
END:VCALENDAR